BEGIN:VCALENDAR
VERSION:2.0
PRODID:-//Montserrat College of Art - ECPv6.15.20//NONSGML v1.0//EN
CALSCALE:GREGORIAN
METHOD:PUBLISH
X-WR-CALNAME:Montserrat College of Art
X-ORIGINAL-URL:https://www.montserrat.edu
X-WR-CALDESC:Events for Montserrat College of Art
REFRESH-INTERVAL;VALUE=DURATION:PT1H
X-Robots-Tag:noindex
X-PUBLISHED-TTL:PT1H
BEGIN:VTIMEZONE
TZID:America/New_York
BEGIN:DAYLIGHT
TZOFFSETFROM:-0500
TZOFFSETTO:-0400
TZNAME:EDT
DTSTART:20240310T070000
END:DAYLIGHT
BEGIN:STANDARD
TZOFFSETFROM:-0400
TZOFFSETTO:-0500
TZNAME:EST
DTSTART:20241103T060000
END:STANDARD
BEGIN:DAYLIGHT
TZOFFSETFROM:-0500
TZOFFSETTO:-0400
TZNAME:EDT
DTSTART:20250309T070000
END:DAYLIGHT
BEGIN:STANDARD
TZOFFSETFROM:-0400
TZOFFSETTO:-0500
TZNAME:EST
DTSTART:20251102T060000
END:STANDARD
BEGIN:DAYLIGHT
TZOFFSETFROM:-0500
TZOFFSETTO:-0400
TZNAME:EDT
DTSTART:20260308T070000
END:DAYLIGHT
BEGIN:STANDARD
TZOFFSETFROM:-0400
TZOFFSETTO:-0500
TZNAME:EST
DTSTART:20261101T060000
END:STANDARD
END:VTIMEZONE
BEGIN:VEVENT
DTSTART;VALUE=DATE:20250123
DTEND;VALUE=DATE:20250601
DTSTAMP:20260424T120946
CREATED:20250121T192547Z
LAST-MODIFIED:20250220T180821Z
UID:24341-1737590400-1748735999@www.montserrat.edu
SUMMARY:Wilber Blair: A Peek Inside the Coloring Book
DESCRIPTION:Reception Wednesday\, February 26\, 4–6pm.\nPublic is welcome. \nBlair’s saturated and atmospheric paintings reflect constant change\, transformation\, and metamorphoses of nature and imagined two-dimensional worlds. Through spatial illusion and surface\, representation and abstraction\, and the material and the immaterial\, Blair’s paintings are an accumulation of formal decisions used to express the complexity and mystery of sight\, memory\, and dreams. \nWilber Blair was a member of Montserrat’s adjunct painting faculty from 2003 to 2023. He taught classes in painting and drawing as well as Foundation courses such as Life Drawing\, Painting I\, and Painting Workshop.
URL:https://www.montserrat.edu/event/wilber-blair-a-peek-inside-the-coloring-book/
LOCATION:MA
CATEGORIES:Exhibitions,Galleries Program
ATTACH;FMTTYPE=image/jpeg:https://www.montserrat.edu/wp-content/uploads/2025/01/Wilber-Blair_Peek-Inside-the-Coloring-Book.jpg
END:VEVENT
BEGIN:VEVENT
DTSTART;VALUE=DATE:20250416
DTEND;VALUE=DATE:20250701
DTSTAMP:20260424T120946
CREATED:20250416T150357Z
LAST-MODIFIED:20250509T171243Z
UID:25708-1744761600-1751327999@www.montserrat.edu
SUMMARY:Light Waves: A Senior Thesis MidWay Show
DESCRIPTION:Featuring Alex Mirante\, Eliot Mason\, and Jay Granniss \n  \n 
URL:https://www.montserrat.edu/event/light-waves-a-senior-thesis-midway-show/
LOCATION:301 Gallery\, 301 Cabot Street\, Beverly\, MA\, 01915\, United States
CATEGORIES:Exhibitions,Student Exhibition
END:VEVENT
BEGIN:VEVENT
DTSTART;VALUE=DATE:20250430
DTEND;VALUE=DATE:20250504
DTSTAMP:20260424T120946
CREATED:20250303T194650Z
LAST-MODIFIED:20250422T170919Z
UID:24969-1745971200-1746316799@www.montserrat.edu
SUMMARY:Compendium: Illustration Senior Thesis
DESCRIPTION:Montserrat Gallery and Schlosberg Gallery \nDates: April 30th – May 3rd \nReception: Wednesday\, April 30th\, 5–7pm \nThe Seniors of the Montserrat College of Art Illustration department announce their final show entitled COMPENDIUM\, opening in the Hardie Main Gallery and the Schlosberg at 23 Essex St in Beverly\, April 30 and continuing through May 3. The opening reception for COMPENDIUM takes place Wednesday\, April 30\, from 5–7pm \nThe work displayed in COMPENDIUM is from a collection of seventeen illustrators with a wide variety of approaches\, styles\, applications and backgrounds. Despite the range of both conceptual and narrative subject matter\, as well as distinctly different materials and displays\, all of the work comes together nicely to form a physical manifestation of the time and effort dedicated to this show. COMPENDIUM has roots in many facets of illustration. From sophisticated collage to traditional paintings with acrylic\, ink\, and watercolor\, the presence of fine art is strong in the show. Many featured artists make use of multimedia to explore new and innovative ways of art making and self-expression. There is physical work\, sculpture combining paper craft with illustrative elements\, as well as more commercial items like garments with hand-printed designs. Including sizes ranging from delicate holiday cards and intricate book jackets to impressively large movie posters and tapestries\, there is no shortage of diversity in projects. Exploring narrative and concept design\, there are examples of imagined environments\, game assets\, character design\, and an abundance of sequential art in the form of comics and children’s books. \nAbout the Artists:  \nRose Aggi is an independent illustrator living in Massachusetts with their sweet cat named Zinnia. Dabbling in many things\, Rose gravitates towards silly and cute aesthetics in digital art\, usually with an emphasis on animals. \nKailani Banasik views their work as a window into the world of their stories\, captivating their audience with whimsy. Taking narratives and concepts and giving them life with color and silliness is their goal as an illustrator\, with hopes to enter the kidlit world. They take inspiration from everything around them\, from video games to the people and animals in their lives\, morphing it into something fantastical and fun. \nGrace Cantalini was born and raised in western Massachusetts. With indulgence in escapist fantasy and a nod to classic science fiction\, her work places an emphasis on vibrant colors and intricate line work. Inspired by the natural world and the limitless possibilities of outer space\, her focus is on environmental and figurative illustration. \nCat Cheseldine is a New England based illustrator who concentrates on delicate details\, fluid states of movement and evolutionary qualities in her subjects. Cat‘s work uses flora and fauna as both subjects and symbolism to create meaning in her pieces. \n“The natural world around us offers so much to be admired\, the delicate blade-like feathers on the birds\, the vibrant colors of beetle shells\, and the shapes of stems that swirl and build according to the circumstances of their environment\,” Cheseldine states. \nAna Chirinos is a Venezuelan-American illustrator raised in Texas and currently based in the North Shore of Massachusetts. Inspired by the Golden Age of Illustration and the unique visual qualities of printmaking\, her work combines intricate linework and texture with grandiose\, almost theatrical compositions. Through careful symbolism\, framing\, and color\, her pieces highlight the humanity at the core of every story. \nAlexis Defranc is a self-described mix of an artist with an unhinged fascination for the ‘Modern Era’\, a passionate writer\, and an 80s rock mixtape. Born and based in Southeastern Massachusetts\, they strive to make their work feel as alive as the next song they have on shuffle. \nLucas dos Santos is a Brazilian Illustrator who utilizes printmaking and photography in order to create work that takes inspiration from the media he grew up with\, mainly derived from Japanese Live-Action superhero shows. \nJessica Ganino is an artist based in Saugus\, MA. Their work is offbeat and mixes bubbly cuteness with macabre elements. Primarily digital and heavily detail focused\, their work reflects a sophisticated contrast. \nRebecca Jordan is an artist living and working in Massachusetts. Her work is rooted in quiet rhythms of personal experiences\, inviting the viewer into a space where moments unfold with tenderness. Through soft\, fluid strokes and muted hues\, the work speaks in a gentle whisper\, offering a window into her world while leaving room for the viewer to engage on their own terms. \nCicey Labella is an Illustration major and Art Education minor at Montserrat College of Art. They are a painter and printmaker who creates work based on their life\, identity\, and making people laugh. \nJasmyn Mall is an illustrator based in Massachusetts despite originally hailing from a small\, peculiar New Jersey town. Her upbringing in Jersey has instilled a fascination and appreciation for the strange and folkloric\, which has led her to create work focusing on these subjects. \nAbigail Monson is a Massachusetts-based interdisciplinary artist working in a variety of mediums\, including collage\, painting\, printmaking\, and fiber arts. Informed by her past career in computer science and her interest in biology\, architecture\, and science fiction\, her work explores our relationship with everyday technology\, the tension between the past and the future\, and the overlooked beauty of the natural world. \nAdrian Persaud is an Indo-Guyanese and Brazilian artist working towards racial diversity in the media. His works explore life as a mixed-race individual\, reaching out to help others feel heard. His pieces blur the lines between fine art and illustration\, having process and material take the spotlight. \nNewt Ryan is known for creating creepy\, disturbing\, and intentionally perverse art with religious overtones that often features contorted figures\, muted colors\, and an abundance of insects. \nQuin Schaeffer is a narrative artist whose work draws influence from queer history and culture\, combined with the aesthetics of the film noir era\, and the golden age of Hollywood. Coming from a family who values creativity and enjoys old-school suspense and thriller films\, those two themes come together in Quin’s art making\, from their teens into their current young adult years as they finish their college degree. \nAri Varney is an illustrator living in Massachusetts. Ari is constantly intrigued by the concept of nostalgia\, trying to illustrate human experiences and emotions. They also enjoy making art that is warm and a bit silly at times. \nVivi Young is an Illustrator based in New England\, working in watercolor\, graphite and acrylic. Her art focuses on fantasy and horror themes viewed through a whimsical lens.
URL:https://www.montserrat.edu/event/senior-thesis-illustration/
LOCATION:Montserrat Gallery\, 23 Essex St\, Beverly\, MA\, 01915\, United States
CATEGORIES:Exhibitions,Student Exhibition
ATTACH;FMTTYPE=image/jpeg:https://www.montserrat.edu/wp-content/uploads/2025/03/Postcard-front-w_o-bleed-scaled.jpg
END:VEVENT
BEGIN:VEVENT
DTSTART;TZID=America/New_York:20250506T190000
DTEND;TZID=America/New_York:20250506T213000
DTSTAMP:20260424T120946
CREATED:20250407T133155Z
LAST-MODIFIED:20250430T174918Z
UID:25432-1746558000-1746567000@www.montserrat.edu
SUMMARY:MASh: Media & Animation Showcase
DESCRIPTION:Montserrat College of Art is proud to announce the dates for the annual Media and Animation Showcase (MASh)! This year’s MASh will premiere on May 6th at The Cabot. Doors will open at 7:00 pm and the show will start at 7:30 pm with a roughly two-hour runtime. Admission is free to the public. \nFor nearly a decade\, The Cabot has hosted the time-based work of Montserrat students\, alumni\, and community members. This showcase reel demonstrates the artistic passion of the Montserrat community. While admission is free to all\, the purchase of concessions is encouraged to support future events. \nFor more information\, please email mash@montserrat.edu. \nThis event is proudly sponsored by the Beverly Cultural Council and hosted by Montserrat College of Art.
URL:https://www.montserrat.edu/event/mash-media-animation-showcase/
LOCATION:The Cabot\, 286 Cabot St\, Beverly\, MA\, 01915\, United States
CATEGORIES:Event
ATTACH;FMTTYPE=image/png:https://www.montserrat.edu/wp-content/uploads/2025/04/Screenshot-2025-04-29-at-12.53.59 PM.png
END:VEVENT
BEGIN:VEVENT
DTSTART;VALUE=DATE:20250507
DTEND;VALUE=DATE:20250511
DTSTAMP:20260424T120946
CREATED:20250303T194812Z
LAST-MODIFIED:20250501T183436Z
UID:24971-1746576000-1746921599@www.montserrat.edu
SUMMARY:Between the Lines: Graphic Design Senior Thesis
DESCRIPTION:Reception: Wednesday\, May 7\, 5–7pm \nBetween The Lines is an exhibition showcasing the work of seven graphic designers and their explorations\, pushing the boundaries of their creative practice. Emphasizing the stories\, processes\, and ideas that emerge in the subtle spaces between concept and execution. \nProject Statements:\nInherited Legacy \n\nJorielle Arlock  \nInherited Legacy explores long term and short term impacts of collective consumption and culture. Through the exploration of commonly wasted ephemera\, I embodied the narrative of what represents us and what we value as society. I collected remnants of consumer culture and started to curate a collection of metaphors about how that impacts us as people. Eventually\, I came to the idea that you can unearth your own legacy based on what you value\, and not what has been impressed upon you. \nUnder Construction \nMikayla Bogus \nUnder Construction is an amalgamation of bits and bobs of early web design. It is inspired by a time before the web was so overly corporate\, when people would create their own sites compiling their interests with an abundance of gifs\, images\, comic sans\, and blinking buttons. It takes a look into the spaces between content as well\, such as error pages\, fun uses of html\, and the forever unfinished webpages archived from sites such as Geocities. \nInside the Mind\nLyllian Caporuscio  \nFocusing on the psychology behind design\, and how that influences the work. I looked at common everyday objects and how I could use them in my work. That is when I focused on the spoon\, and how I had perceived it. Finding meaning\, I have categorized how spoons in literature and pop culture exist\, for means of nourishment\, as a metaphor for privilege\, and a tool for measurement. Looking at nourishment\, I searched for what that means\, and how it ultimately relates to the spoon. \nIntuitivity within Design\nJillian De Paolo \nExperiments with concrete poetry and free association tests led me to explore language. Hard definitions and etymologies are the rational and objective application of language. I am interested in intuitively interpreting words\, symbols\, and phrases with multiple meanings. Through tests and surveys\, I found the idiosyncrasy within the results posed that particular vernacular or personal bias can have an extraordinary impact on how we view the world and communicate. The vast antinomy within our ideas\, languages\, systems\, and intuitions reflect the semantics of our language. To prove our intuition’s validity\, I use empirical data to visualize infographics to show that anything can seem plausible with the right design. \nDanger in Beauty\nBrandon Hale-Montminy \nLately I’ve had an interest in the lengths people go for beauty and how beauty seems to be one of the most important things to a lot of people. That’s crazy to me so I tried to find a way to describe the absurdity of that in a way I can relate to. This landed me on the topic of poisonous flowers seeing as flowers are most known and sought after for their beauty but at the same time they can be an extreme danger for the owner and/or their pets and children. I find that this danger makes these flowers even more beautiful and this danger is why I’m drawn to them. I’m well aware this makes no sense but many people are like this regarding other things so I’m here to show the beauty without ever letting people forget about the danger. \nMake AI Your Bytch\nDylan Maher \nMake AI Your Bytch confronts the possibility of AI-generated design taking over the world. Common signage is used as a reference for visual solutions that are nonsensical when placed in the real-world. The goal is to demonstrate why designers shouldn’t rely on algorithms to communicate an intended message. The project is not concerned with changing minds regarding the ethics of AI. The reality is that the technology isn’t going away anytime soon; which means it’s up to the next generation of creatives to learn how to use it responsibly. \nEscapism\nMarina Stagliola \nMy project focuses on escapism and how I use the act of decorating cookies to serve as my therapeutic process. It creates a state of mind that makes it possible for me to forget about the outside world. My attention is set on the task\, while awareness of my surroundings fades in and out of focus. Throughout this process I use royal icing as both a medium and a muse to relax and relieve stress. \n\n 
URL:https://www.montserrat.edu/event/senior-thesis-graphic-design/
LOCATION:Montserrat Gallery\, 23 Essex St\, Beverly\, MA\, 01915\, United States
CATEGORIES:Exhibitions,Student Exhibition
END:VEVENT
BEGIN:VEVENT
DTSTART;VALUE=DATE:20250514
DTEND;VALUE=DATE:20250518
DTSTAMP:20260424T120946
CREATED:20250303T194921Z
LAST-MODIFIED:20250513T135442Z
UID:24973-1747180800-1747526399@www.montserrat.edu
SUMMARY:All Senior Show
DESCRIPTION:Montserrat + Schlosberg Galleries \nMay 14th – 17th \n\nAwards Ceremony\nWednesday\, May 14\, 1:00pm \nGuest Juror\nLoretta Park\, Artist and Assistant Teaching Professor and the Director of the Trustman Art Gallery\, Simmons University
URL:https://www.montserrat.edu/event/all-senior-show/
LOCATION:Montserrat Gallery\, 23 Essex St\, Beverly\, MA\, 01915\, United States
CATEGORIES:Exhibitions,Student Exhibition
ATTACH;FMTTYPE=image/jpeg:https://www.montserrat.edu/wp-content/uploads/2025/03/All-Senior-Show-2025.jpg
END:VEVENT
BEGIN:VEVENT
DTSTART;TZID=America/New_York:20250516T100000
DTEND;TZID=America/New_York:20250516T120000
DTSTAMP:20260424T120946
CREATED:20250227T194813Z
LAST-MODIFIED:20250228T182603Z
UID:24886-1747389600-1747396800@www.montserrat.edu
SUMMARY:Commencement
DESCRIPTION:
URL:https://www.montserrat.edu/event/commencement/
LOCATION:The Cabot\, 286 Cabot St\, Beverly\, MA\, 01915\, United States
CATEGORIES:Event
END:VEVENT
END:VCALENDAR