BEGIN:VCALENDAR
VERSION:2.0
PRODID:-//Montserrat College of Art - ECPv6.15.20//NONSGML v1.0//EN
CALSCALE:GREGORIAN
METHOD:PUBLISH
X-WR-CALNAME:Montserrat College of Art
X-ORIGINAL-URL:https://www.montserrat.edu
X-WR-CALDESC:Events for Montserrat College of Art
REFRESH-INTERVAL;VALUE=DURATION:PT1H
X-Robots-Tag:noindex
X-PUBLISHED-TTL:PT1H
BEGIN:VTIMEZONE
TZID:America/New_York
BEGIN:DAYLIGHT
TZOFFSETFROM:-0500
TZOFFSETTO:-0400
TZNAME:EDT
DTSTART:20240310T070000
END:DAYLIGHT
BEGIN:STANDARD
TZOFFSETFROM:-0400
TZOFFSETTO:-0500
TZNAME:EST
DTSTART:20241103T060000
END:STANDARD
BEGIN:DAYLIGHT
TZOFFSETFROM:-0500
TZOFFSETTO:-0400
TZNAME:EDT
DTSTART:20250309T070000
END:DAYLIGHT
BEGIN:STANDARD
TZOFFSETFROM:-0400
TZOFFSETTO:-0500
TZNAME:EST
DTSTART:20251102T060000
END:STANDARD
BEGIN:DAYLIGHT
TZOFFSETFROM:-0500
TZOFFSETTO:-0400
TZNAME:EDT
DTSTART:20260308T070000
END:DAYLIGHT
BEGIN:STANDARD
TZOFFSETFROM:-0400
TZOFFSETTO:-0500
TZNAME:EST
DTSTART:20261101T060000
END:STANDARD
END:VTIMEZONE
BEGIN:VEVENT
DTSTART;TZID=America/New_York:20251206T140000
DTEND;TZID=America/New_York:20251206T140000
DTSTAMP:20260423T061647
CREATED:20251124T154202Z
LAST-MODIFIED:20251124T172556Z
UID:27426-1765029600-1765029600@www.montserrat.edu
SUMMARY:Arpeggione Ensemble: Miniature Nutcracker
DESCRIPTION:248 Cabot Street\, Beverly\, MA \nTchaikovsky’s eternal favorite\, reimagined to bring joy into our community  \nWelcome the holidays with Arpeggione’s own miniature rendering of Tchaikovsky’s Nutcracker! Our vision is both nostalgic and new\, combining your favorite music from Tchaikovsky’s Nutcracker Suite with readings from the E.T.A. Hoffmann classic. A musical treat for all ages full of magic and lots of musical surprises. \nPerformers: Andrea LeBlanc\, flute; Thomas Carroll\, clarinet; Kyra Davies\, violin; Anna Seda\, cello; April Sun\, piano \nGet Tickets Here
URL:https://www.montserrat.edu/event/arpeggione-ensemble-miniature-nutcracker/
LOCATION:The Bower\, Cabot Street 248\, Beverly\, MA\, 01915\, United States
CATEGORIES:Event
ATTACH;FMTTYPE=image/jpeg:https://www.montserrat.edu/wp-content/uploads/2025/11/nutcracker.jpg
END:VEVENT
END:VCALENDAR