BEGIN:VCALENDAR
VERSION:2.0
PRODID:-//Montserrat College of Art - ECPv6.15.20//NONSGML v1.0//EN
CALSCALE:GREGORIAN
METHOD:PUBLISH
X-ORIGINAL-URL:https://www.montserrat.edu
X-WR-CALDESC:Events for Montserrat College of Art
REFRESH-INTERVAL;VALUE=DURATION:PT1H
X-Robots-Tag:noindex
X-PUBLISHED-TTL:PT1H
BEGIN:VTIMEZONE
TZID:America/New_York
BEGIN:DAYLIGHT
TZOFFSETFROM:-0500
TZOFFSETTO:-0400
TZNAME:EDT
DTSTART:20250309T070000
END:DAYLIGHT
BEGIN:STANDARD
TZOFFSETFROM:-0400
TZOFFSETTO:-0500
TZNAME:EST
DTSTART:20251102T060000
END:STANDARD
BEGIN:DAYLIGHT
TZOFFSETFROM:-0500
TZOFFSETTO:-0400
TZNAME:EDT
DTSTART:20260308T070000
END:DAYLIGHT
BEGIN:STANDARD
TZOFFSETFROM:-0400
TZOFFSETTO:-0500
TZNAME:EST
DTSTART:20261101T060000
END:STANDARD
BEGIN:DAYLIGHT
TZOFFSETFROM:-0500
TZOFFSETTO:-0400
TZNAME:EDT
DTSTART:20270314T070000
END:DAYLIGHT
BEGIN:STANDARD
TZOFFSETFROM:-0400
TZOFFSETTO:-0500
TZNAME:EST
DTSTART:20271107T060000
END:STANDARD
END:VTIMEZONE
BEGIN:VEVENT
DTSTART;VALUE=DATE:20260325
DTEND;VALUE=DATE:20260404
DTSTAMP:20260423T090537
CREATED:20260213T183832Z
LAST-MODIFIED:20260313T202321Z
UID:28206-1774396800-1775260799@www.montserrat.edu
SUMMARY:Senior Thesis Show: Animation / Games\,Toys & Play / Graphic Design
DESCRIPTION:Anthology \nReception: March 25\, 6–8pm \nGraphic Design \n\nDom Ferro\nAnya Crowley\nKatie Capobiano\n\nGames\, Toys and Play \n\nPersephone Huffman\nShay Berry\nSam Wilkinson\nEvelyn Skop\n\nAnimation \n\nJasper Michel\nEcho VanBenschoten\nAnneliese Wang\nAdeline Charneco\nAramys Dejesus\nLyss Lentini\nCogs Carruthers\nAce Jones\nJamie Killion\nIsabella Otero\n\n 
URL:https://www.montserrat.edu/event/senior-thesis-animation-gtp-design/
LOCATION:Montserrat Gallery\, 23 Essex St\, Beverly\, MA\, 01915\, United States
CATEGORIES:Exhibitions,Student Exhibition
ATTACH;FMTTYPE=image/jpeg:https://www.montserrat.edu/wp-content/uploads/2026/02/Senior-Thesis-1-Postcard_Page_1-1-scaled.jpg
END:VEVENT
END:VCALENDAR