BEGIN:VCALENDAR
VERSION:2.0
PRODID:-//Montserrat College of Art - ECPv6.15.20//NONSGML v1.0//EN
CALSCALE:GREGORIAN
METHOD:PUBLISH
X-WR-CALNAME:Montserrat College of Art
X-ORIGINAL-URL:https://www.montserrat.edu
X-WR-CALDESC:Events for Montserrat College of Art
REFRESH-INTERVAL;VALUE=DURATION:PT1H
X-Robots-Tag:noindex
X-PUBLISHED-TTL:PT1H
BEGIN:VTIMEZONE
TZID:America/New_York
BEGIN:DAYLIGHT
TZOFFSETFROM:-0500
TZOFFSETTO:-0400
TZNAME:EDT
DTSTART:20240310T070000
END:DAYLIGHT
BEGIN:STANDARD
TZOFFSETFROM:-0400
TZOFFSETTO:-0500
TZNAME:EST
DTSTART:20241103T060000
END:STANDARD
BEGIN:DAYLIGHT
TZOFFSETFROM:-0500
TZOFFSETTO:-0400
TZNAME:EDT
DTSTART:20250309T070000
END:DAYLIGHT
BEGIN:STANDARD
TZOFFSETFROM:-0400
TZOFFSETTO:-0500
TZNAME:EST
DTSTART:20251102T060000
END:STANDARD
BEGIN:DAYLIGHT
TZOFFSETFROM:-0500
TZOFFSETTO:-0400
TZNAME:EDT
DTSTART:20260308T070000
END:DAYLIGHT
BEGIN:STANDARD
TZOFFSETFROM:-0400
TZOFFSETTO:-0500
TZNAME:EST
DTSTART:20261101T060000
END:STANDARD
END:VTIMEZONE
BEGIN:VEVENT
DTSTART;VALUE=DATE:20250416
DTEND;VALUE=DATE:20250701
DTSTAMP:20260424T150337
CREATED:20250416T150357Z
LAST-MODIFIED:20250509T171243Z
UID:25708-1744761600-1751327999@www.montserrat.edu
SUMMARY:Light Waves: A Senior Thesis MidWay Show
DESCRIPTION:Featuring Alex Mirante\, Eliot Mason\, and Jay Granniss \n  \n 
URL:https://www.montserrat.edu/event/light-waves-a-senior-thesis-midway-show/
LOCATION:301 Gallery\, 301 Cabot Street\, Beverly\, MA\, 01915\, United States
CATEGORIES:Exhibitions,Student Exhibition
END:VEVENT
BEGIN:VEVENT
DTSTART;VALUE=DATE:20250616
DTEND;VALUE=DATE:20250810
DTSTAMP:20260424T150337
CREATED:20250415T173623Z
LAST-MODIFIED:20250617T142209Z
UID:25579-1750032000-1754783999@www.montserrat.edu
SUMMARY:Threads of Inquiry
DESCRIPTION:Opening Reception Sunday\, June 22\, 4–6pm. \nThis immersive and interactive art and learning exhibition features work created and curated by Meagan Grant and Alicia Gray. Drawing inspiration from their own artistic and educational practices\, travel and research\, Grant and Gray invite viewers to physically and metaphorically weave together an understanding of education through the lens of accessibility\, equity and dialogue. \n 
URL:https://www.montserrat.edu/event/threads-of-inquiry/
LOCATION:Montserrat Gallery\, 23 Essex St\, Beverly\, MA\, 01915\, United States
CATEGORIES:Exhibitions
ATTACH;FMTTYPE=image/jpeg:https://www.montserrat.edu/wp-content/uploads/2025/05/Threads-of-Inquiry-1.jpg
END:VEVENT
BEGIN:VEVENT
DTSTART;VALUE=DATE:20250618
DTEND;VALUE=DATE:20250705
DTSTAMP:20260424T150337
CREATED:20250522T202029Z
LAST-MODIFIED:20250522T202029Z
UID:26044-1750204800-1751673599@www.montserrat.edu
SUMMARY:Japan Institute – International Residency
DESCRIPTION:Take advantage of Montserrat’s long-running relationships in Japan with a 14-day artmaking and museum-going experience. Montserrat faculty will introduce Japanese-style printmaking and bookbinding techniques to experiment with and incorporate into your teaching. There will be daily opportunities to tour historic and contemporary Japanese culture in the seaside city of Niigata. The trip ends with a few days in Tokyo. \n\nClick here for more information and to register!
URL:https://www.montserrat.edu/event/japan-institute-international-residency/
LOCATION:MA
ATTACH;FMTTYPE=image/jpeg:https://www.montserrat.edu/wp-content/uploads/2024/07/IMG_5246-scaled.jpeg
END:VEVENT
BEGIN:VEVENT
DTSTART;VALUE=DATE:20250622
DTEND;VALUE=DATE:20250629
DTSTAMP:20260424T150337
CREATED:20250522T201512Z
LAST-MODIFIED:20250522T201512Z
UID:26039-1750550400-1751155199@www.montserrat.edu
SUMMARY:Art Educator Summer Institute – Beverly
DESCRIPTION:Montserrat’s Art Educator Summer Institute offers a week-long session to reconnect with your artist self. Participants will be immersed in our studio spaces\, building on their art practice while learning new skills to bring back to the classroom. \nClick here for more information and to register!
URL:https://www.montserrat.edu/event/art-educator-summer-institute-beverly-2/
LOCATION:MA
ATTACH;FMTTYPE=image/jpeg:https://www.montserrat.edu/wp-content/uploads/2024/09/Loren-scaled.jpg
END:VEVENT
END:VCALENDAR