BEGIN:VCALENDAR
VERSION:2.0
PRODID:-//Montserrat College of Art - ECPv6.15.20//NONSGML v1.0//EN
CALSCALE:GREGORIAN
METHOD:PUBLISH
X-WR-CALNAME:Montserrat College of Art
X-ORIGINAL-URL:https://www.montserrat.edu
X-WR-CALDESC:Events for Montserrat College of Art
REFRESH-INTERVAL;VALUE=DURATION:PT1H
X-Robots-Tag:noindex
X-PUBLISHED-TTL:PT1H
BEGIN:VTIMEZONE
TZID:America/New_York
BEGIN:DAYLIGHT
TZOFFSETFROM:-0500
TZOFFSETTO:-0400
TZNAME:EDT
DTSTART:20230312T070000
END:DAYLIGHT
BEGIN:STANDARD
TZOFFSETFROM:-0400
TZOFFSETTO:-0500
TZNAME:EST
DTSTART:20231105T060000
END:STANDARD
BEGIN:DAYLIGHT
TZOFFSETFROM:-0500
TZOFFSETTO:-0400
TZNAME:EDT
DTSTART:20240310T070000
END:DAYLIGHT
BEGIN:STANDARD
TZOFFSETFROM:-0400
TZOFFSETTO:-0500
TZNAME:EST
DTSTART:20241103T060000
END:STANDARD
BEGIN:DAYLIGHT
TZOFFSETFROM:-0500
TZOFFSETTO:-0400
TZNAME:EDT
DTSTART:20250309T070000
END:DAYLIGHT
BEGIN:STANDARD
TZOFFSETFROM:-0400
TZOFFSETTO:-0500
TZNAME:EST
DTSTART:20251102T060000
END:STANDARD
BEGIN:DAYLIGHT
TZOFFSETFROM:-0500
TZOFFSETTO:-0400
TZNAME:EDT
DTSTART:20260308T070000
END:DAYLIGHT
BEGIN:STANDARD
TZOFFSETFROM:-0400
TZOFFSETTO:-0500
TZNAME:EST
DTSTART:20261101T060000
END:STANDARD
END:VTIMEZONE
BEGIN:VEVENT
DTSTART;VALUE=DATE:20241021
DTEND;VALUE=DATE:20250126
DTSTAMP:20260425T112131
CREATED:20240926T193228Z
LAST-MODIFIED:20241031T204227Z
UID:23355-1729468800-1737849599@www.montserrat.edu
SUMMARY:I’ll Be Your Mirror
DESCRIPTION:Presented in two parts\, this exhibition features recent works by five Montserrat alumni. Ranging from objective pieces to abstracted representations\, these works are reflections of the self and the world around us. \nI’ll Be Your Mirror offers a unique lens in portraying individual experiences and in challenging assumptions that prevent us from seeking truth. As you engage with the work\, you are encouraged to confront your own perspectives and embrace the narratives presented before you. \nThings look different based on where you’re looking from\, take a mirror to further explore the world we share. \nArtist Conversation\nwith Montserrat Alumni Annie Lee-Daly\, Shannon Herrick\, Cayla Montes\, Denali Musgrave\, and Zeynep Celik\nFriday\, December 6\, 11–12pm\, Hardie Room 101 \nPart I\nAnnie Lee-Daly\nShannon Herrick \nPart II\nCayla Montes\nDenali Musgrave\nZeynep Çelik
URL:https://www.montserrat.edu/event/ill-be-your-mirror/
LOCATION:Carol Schlosberg Gallery\, 23 Essex St\, Beverly\, MA\, 01915\, United States
CATEGORIES:Artist Talks,Exhibitions,Galleries Program
ATTACH;FMTTYPE=image/png:https://www.montserrat.edu/wp-content/uploads/2024/09/Mirror_Postcard_Page_1.png
END:VEVENT
BEGIN:VEVENT
DTSTART;VALUE=DATE:20241202
DTEND;VALUE=DATE:20250202
DTSTAMP:20260425T112131
CREATED:20241210T200815Z
LAST-MODIFIED:20250123T194816Z
UID:24188-1733097600-1738454399@www.montserrat.edu
SUMMARY:MOSH Studio: There is No Away
DESCRIPTION:MOSH Studio is a collaboration between artists Suzanne Moseley and Adrienne Shishko\, each bringing a very different art background to their joint projects. Together they create 3D sculptures using repurposed materials from individual\, corporate\, or collective waste streams\, often fiber-based\, to create metaphorical portraits of people\, places\, or communities. Their goal is to produce vibrant\, energetic works that captivate audiences with color and texture\, encouraging a discovery of both the materials and their transformation into something new. \nAdrienne Shishko is a process-driven\, mixed media artist based in Boston. She is known for her innovative ways of engaging communities in art beyond traditional gallery spaces through pop ups\, digital murals\, and building wraps. In 2017\, she was commissioned by JBG Smith to enliven a business district in Crystal City\, MD which helped encourage new development in the area. Her work has also been exhibited throughout New England at venues including Beacon Gallery\, The Quin House\, The Providence Art Club\, Mosesian Center for the Arts\, Cambridge Art Association among others\, and is included in numerous private and corporate collections around the country. \nSuzanne Moseley’s creative career has spanned advertising\, fashion\, craft\, graphics\, web and restaurant design. This background has led Mosely to explore bold\, graphic imagery with a penchant for textile patterns and richly layered compositions. Moseley has exhibited her work in juried group shows around New England including the Cultural Center of Cape Cod\, Rhode Island Water Color Society\, Castle Hill @ Truro Center for the Arts\, Gallery Twist and Art Fluent’s online gallery. She studied printmaking at the Decordova Museum School\, Maud Morgan\, MFA\, Castle Hill\, Zea Mayes\, and Shepherd Maudsleigh. Moseley is also a member of Boston Printmakers\, USEA and Concord Art.
URL:https://www.montserrat.edu/event/mosh-studio-there-is-no-away/
LOCATION:Frame 301 Gallery\, 301 Cabot Street\, Beverly\, MA\, 01915\, United States
CATEGORIES:Exhibitions,Galleries Program
ATTACH;FMTTYPE=image/jpeg:https://www.montserrat.edu/wp-content/uploads/2024/12/Comfortablehighres-scaled.jpg
END:VEVENT
BEGIN:VEVENT
DTSTART;VALUE=DATE:20241204
DTEND;VALUE=DATE:20250123
DTSTAMP:20260425T112131
CREATED:20241112T201346Z
LAST-MODIFIED:20241112T201346Z
UID:23933-1733270400-1737590399@www.montserrat.edu
SUMMARY:Midway: A Senior Studio Arts Exhibition
DESCRIPTION:Opening Reception: Dec 4\, 11am \nMontserrat College of Art presents to you Midway: A Senior Studio Arts Exhibition. Works created by 19 studio artists from the Class of 2025 are on display from December 4 through January 22 in the Bare Gallery at 1A Knowlton Street\, Beverly\, MA. The opening reception will be celebrated at 11am on December 4 in the Bare Gallery. \nThe exhibition features 2-dimensional\, sculptural\, and time-based work that revolves around a variety of themes including (but not limited to): relationships with the self and the world\, memory\, family\, fantasy\, mundanity\, sexuality\, fashion\, and clowns. Each artist\, having worked tirelessly for months\, presents a piece that reflects their effort\, their technical ability\, and the conceptual journey that comes with intensive studio practice. \nArtists Featured: \nAoife Bergeron\nMaggie Burns\nFrederic Cafarella\nCasper Childs\nReagan Davis\nWhitney Farnsworth\nNev Fernandez\nSpencer Kall\nDomenic Karis\nRebecca Killion\nSkylar Lafleur\nKrystian Lanza\nFinnley Lewis\nAbigail Monson\nAbby Phelps\nJulia Siegert\nSam Sorrento\nLouis Staffieri\nErin Survilas \n 
URL:https://www.montserrat.edu/event/midway-a-senior-studio-arts-exhibition/
LOCATION:Bare Gallery\, 275 Cabot Street\, Beverly\, MA\, 01915\, United States
CATEGORIES:Exhibitions,Student Exhibition
END:VEVENT
END:VCALENDAR